BEGIN:VCALENDAR
VERSION:2.0
PRODID:icalendar-ruby
CALSCALE:GREGORIAN
METHOD:PUBLISH
BEGIN:VEVENT
DTSTAMP:20260424T170642Z
UID:20-220348@connect2pbc.com
DTSTART:20260826T223000Z
DTEND:20260826T233000Z
CLASS:PUBLIC
CREATED:20260424T093247
DESCRIPTION:Join us for this new event!\nAll Adults Are Welcome!
LAST-MODIFIED:20260424T093247
LOCATION:Meets in the Fellowship Hall
SUMMARY:Adult Class - Connect Night
URL;VALUE=URI:https://www.connect2pbc.com/events/adult-class-connect-night/
 2026-08-26
END:VEVENT
END:VCALENDAR
