BEGIN:VCALENDAR
VERSION:2.0
PRODID:icalendar-ruby
CALSCALE:GREGORIAN
METHOD:PUBLISH
BEGIN:VEVENT
DTSTAMP:20260425T022415Z
UID:20-220354@connect2pbc.com
DTSTART:20261007T223000Z
DTEND:20261007T233000Z
CLASS:PUBLIC
CREATED:20260424T093247
DESCRIPTION:Join us for this new event!\nAll Adults Are Welcome!
LAST-MODIFIED:20260424T093247
LOCATION:Meets in the Fellowship Hall
SUMMARY:Adult Class - Connect Night
URL;VALUE=URI:https://www.connect2pbc.com/events/adult-class-connect-night/
 2026-10-07
END:VEVENT
END:VCALENDAR
